Workbook

Sheet ACTIVIDADES 
A1: 4.5 PLAN DE TRABAJO API INTERDISCIPLINARIA 2026-2029
A3: Nº | B3: ACTIVIDAD | C3: OBJETIVO GENERAL | D3: OBJETIVO ESPECÍFICO
B4: Describa la actividad que llevará a cabo el equipo de investigación | C4: Número del objetivo general y específico con que se relaciona la actividad | E4: 46235 | F4: 46266 | G4: 46296 | H4: 46327 | I4: 46357 | J4: 46388 | K4: 46419 | L4: 46447 | M4: 46478 | N4: 46508 | O4: 46539 | P4: 46569 | Q4: 46600 | R4: 46631 | S4: 46661 | T4: 46692 | U4: 46722 | V4: 46753 | W4: 46784 | X4: 46813 | Y4: 46844 | Z4: 46874 | AA4: 46905 | AB4: 46935 | AC4: 46966 | AD4: 46997 | AE4: 47027 | AF4: 47058 | AG4: 47088 | AH4: 47119 | AI4: 47150 | AJ4: 47178 | AK4: 47209 | AL4: 47239 | AM4: 47270 | AN4: 47300
A5: 1
A6: 2
A7: 3
A8: 4
A9: 5
A10: 6
A11: 7
A12: 8
A13: 9
A14: 10
A15: 11
A16: 12
... A29: 25

Sheet PRESUPUESTO
A1: 6.1 PRESUPUESTO DETALLADO API INTERDISCIPLINARIA
A3: Nº | B3: ACTIVIDAD (no digite, se copiará desde la hoja anterior) | C3: Describa las necesidades para llevar a cabo la actividad y luego distribuya en monto en los años que lo ejecutará. Ejemplo: salidas a terreno, arriendo de equipos, organización de reuniones científicas, suscripciones de revistas, habilitación de espacios | D3: AÑO 2026-2027 | E3: AÑO 2027-2028 | F3: AÑO 2028-2029
A4: 1 | B4: ='ACTIVIDADES '!B5 -> 0 | C4: ej: habilitación de espacio | D4: 300000
A5: 2 | B5: ='ACTIVIDADES '!B6 -> 0 | C5: ej: suscripción a revista | E5: 200000 | F5: 220000
A6: 3 | B6: ='ACTIVIDADES '!B7 -> 0
A7: 4 | B7: ='ACTIVIDADES '!B8 -> 0
A8: 5 | B8: ='ACTIVIDADES '!B9 -> 0
A9: 6 | B9: ='ACTIVIDADES '!B10 -> 0
A10: 7 | B10: ='ACTIVIDADES '!B11 -> 0
A11: 8 | B11: ='ACTIVIDADES '!B12 -> 0
A12: 9 | B12: ='ACTIVIDADES '!B13 -> 0
A13: 10 | B13: ='ACTIVIDADES '!B14 -> 0
A14: 11 | B14: ='ACTIVIDADES '!B15 -> 0
A15: 12 | B15: ='ACTIVIDADES '!B16 -> 0
A16: 13 | B16: ='ACTIVIDADES '!B17 -> 0
A17: 14 | B17: ='ACTIVIDADES '!B18 -> 0
... A28: 25 | B28: ='ACTIVIDADES '!B29 -> 0
C29: TOTAL | D29: =SUM(D4:D28) -> 300000 | E29: =SUM(E4:E28) -> 200000 | F29: =SUM(F4:F28) -> 220000
